BEGIN:VCALENDAR
VERSION:2.0
PRODID:-//NADI Kg Kuala Selama - ECPv6.15.13.1//NONSGML v1.0//EN
CALSCALE:GREGORIAN
METHOD:PUBLISH
X-WR-CALNAME:NADI Kg Kuala Selama
X-ORIGINAL-URL:https://kgkualaselama.nadi.my
X-WR-CALDESC:Events for NADI Kg Kuala Selama
REFRESH-INTERVAL;VALUE=DURATION:PT1H
X-Robots-Tag:noindex
X-PUBLISHED-TTL:PT1H
BEGIN:VTIMEZONE
TZID:Asia/Kuala_Lumpur
BEGIN:STANDARD
TZOFFSETFROM:+0800
TZOFFSETTO:+0800
TZNAME:+08
DTSTART:20250101T000000
END:STANDARD
END:VTIMEZONE
BEGIN:VEVENT
DTSTART;TZID=Asia/Kuala_Lumpur:20260404T090000
DTEND;TZID=Asia/Kuala_Lumpur:20260531T170000
DTSTAMP:20260426T005621
CREATED:20260404T014434Z
LAST-MODIFIED:20260404T014434Z
UID:14656-1775293200-1780246800@kgkualaselama.nadi.my
SUMMARY:SARINGAN KESIHATAN PERCUMA DI NADI
DESCRIPTION:
URL:https://kgkualaselama.nadi.my/event/saringan-kesihatan-percuma-di-nadi/
END:VEVENT
BEGIN:VEVENT
DTSTART;TZID=Asia/Kuala_Lumpur:20260425T090000
DTEND;TZID=Asia/Kuala_Lumpur:20260425T170000
DTSTAMP:20260426T005621
CREATED:20260404T021618Z
LAST-MODIFIED:20260404T021618Z
UID:14690-1777107600-1777136400@kgkualaselama.nadi.my
SUMMARY:WEBINAR ATAS TALIAN : PEMASARAN 2
DESCRIPTION:
URL:https://kgkualaselama.nadi.my/event/webinar-atas-talian-pemasaran-2/
END:VEVENT
END:VCALENDAR