BEGIN:VCALENDAR
VERSION:2.0
PRODID:-//NADI Kg Kuala Selama - ECPv6.15.13.1//NONSGML v1.0//EN
CALSCALE:GREGORIAN
METHOD:PUBLISH
X-WR-CALNAME:NADI Kg Kuala Selama
X-ORIGINAL-URL:https://kgkualaselama.nadi.my
X-WR-CALDESC:Events for NADI Kg Kuala Selama
REFRESH-INTERVAL;VALUE=DURATION:PT1H
X-Robots-Tag:noindex
X-PUBLISHED-TTL:PT1H
BEGIN:VTIMEZONE
TZID:UTC
BEGIN:STANDARD
TZOFFSETFROM:+0000
TZOFFSETTO:+0000
TZNAME:UTC
DTSTART:20230101T000000
END:STANDARD
END:VTIMEZONE
BEGIN:VEVENT
DTSTART;TZID=UTC:20240623T100000
DTEND;TZID=UTC:20240623T120000
DTSTAMP:20260425T100205
CREATED:20240601T094303Z
LAST-MODIFIED:20240601T094303Z
UID:11224-1719136800-1719144000@kgkualaselama.nadi.my
SUMMARY:KDB: Jenayah Siber
DESCRIPTION:
URL:https://kgkualaselama.nadi.my/event/kdb-jenayah-siber/
CATEGORIES:DEFAULT
END:VEVENT
BEGIN:VEVENT
DTSTART;TZID=UTC:20240623T100000
DTEND;TZID=UTC:20240623T120000
DTSTAMP:20260425T100205
CREATED:20240601T094356Z
LAST-MODIFIED:20240601T094356Z
UID:11226-1719136800-1719144000@kgkualaselama.nadi.my
SUMMARY:KDB: Jenayah Siber
DESCRIPTION:
URL:https://kgkualaselama.nadi.my/event/kdb-jenayah-siber-3/
CATEGORIES:DEFAULT
END:VEVENT
BEGIN:VEVENT
DTSTART;TZID=UTC:20240623T100000
DTEND;TZID=UTC:20240623T170000
DTSTAMP:20260425T100205
CREATED:20240601T094326Z
LAST-MODIFIED:20240601T094326Z
UID:11225-1719136800-1719162000@kgkualaselama.nadi.my
SUMMARY:KDB: Jenayah Siber
DESCRIPTION:
URL:https://kgkualaselama.nadi.my/event/kdb-jenayah-siber-2/
CATEGORIES:DEFAULT
END:VEVENT
END:VCALENDAR