BEGIN:VCALENDAR
VERSION:2.0
PRODID:-//NADI Kg Kuala Selama - ECPv6.15.13.1//NONSGML v1.0//EN
CALSCALE:GREGORIAN
METHOD:PUBLISH
X-WR-CALNAME:NADI Kg Kuala Selama
X-ORIGINAL-URL:https://kgkualaselama.nadi.my
X-WR-CALDESC:Events for NADI Kg Kuala Selama
REFRESH-INTERVAL;VALUE=DURATION:PT1H
X-Robots-Tag:noindex
X-PUBLISHED-TTL:PT1H
BEGIN:VTIMEZONE
TZID:UTC
BEGIN:STANDARD
TZOFFSETFROM:+0000
TZOFFSETTO:+0000
TZNAME:UTC
DTSTART:20230101T000000
END:STANDARD
END:VTIMEZONE
BEGIN:VEVENT
DTSTART;TZID=UTC:20240619T160000
DTEND;TZID=UTC:20240619T170000
DTSTAMP:20260425T202359
CREATED:20240601T092652Z
LAST-MODIFIED:20240601T092652Z
UID:11220-1718812800-1718816400@kgkualaselama.nadi.my
SUMMARY:ICT: Coloring Room Recess
DESCRIPTION:
URL:https://kgkualaselama.nadi.my/event/ict-coloring-room-recess/
CATEGORIES:DEFAULT
END:VEVENT
BEGIN:VEVENT
DTSTART;TZID=UTC:20240619T160000
DTEND;TZID=UTC:20240619T170000
DTSTAMP:20260425T202359
CREATED:20240601T092805Z
LAST-MODIFIED:20240601T092805Z
UID:11221-1718812800-1718816400@kgkualaselama.nadi.my
SUMMARY:ICT: Coloring Room Recess
DESCRIPTION:
URL:https://kgkualaselama.nadi.my/event/ict-coloring-room-recess-2/
CATEGORIES:DEFAULT
END:VEVENT
END:VCALENDAR