BEGIN:VCALENDAR
VERSION:2.0
PRODID:-//NADI Kg Kuala Selama - ECPv6.15.13.1//NONSGML v1.0//EN
CALSCALE:GREGORIAN
METHOD:PUBLISH
X-WR-CALNAME:NADI Kg Kuala Selama
X-ORIGINAL-URL:https://kgkualaselama.nadi.my
X-WR-CALDESC:Events for NADI Kg Kuala Selama
REFRESH-INTERVAL;VALUE=DURATION:PT1H
X-Robots-Tag:noindex
X-PUBLISHED-TTL:PT1H
BEGIN:VTIMEZONE
TZID:UTC
BEGIN:STANDARD
TZOFFSETFROM:+0000
TZOFFSETTO:+0000
TZNAME:UTC
DTSTART:20230101T000000
END:STANDARD
END:VTIMEZONE
BEGIN:VEVENT
DTSTART;TZID=UTC:20240604T144500
DTEND;TZID=UTC:20240604T164500
DTSTAMP:20260425T003842
CREATED:20240601T090240Z
LAST-MODIFIED:20240601T090240Z
UID:11209-1717512300-1717519500@kgkualaselama.nadi.my
SUMMARY:Kelas Usahawan Digital: Shopee
DESCRIPTION:
URL:https://kgkualaselama.nadi.my/event/kelas-usahawan-digital-shopee/
CATEGORIES:DEFAULT
END:VEVENT
END:VCALENDAR