BEGIN:VCALENDAR
VERSION:2.0
PRODID:-//NADI Kg Kuala Selama - ECPv6.15.13.1//NONSGML v1.0//EN
CALSCALE:GREGORIAN
METHOD:PUBLISH
X-WR-CALNAME:NADI Kg Kuala Selama
X-ORIGINAL-URL:https://kgkualaselama.nadi.my
X-WR-CALDESC:Events for NADI Kg Kuala Selama
REFRESH-INTERVAL;VALUE=DURATION:PT1H
X-Robots-Tag:noindex
X-PUBLISHED-TTL:PT1H
BEGIN:VTIMEZONE
TZID:UTC
BEGIN:STANDARD
TZOFFSETFROM:+0000
TZOFFSETTO:+0000
TZNAME:UTC
DTSTART:20230101T000000
END:STANDARD
END:VTIMEZONE
BEGIN:VEVENT
DTSTART;TZID=UTC:20240524T150000
DTEND;TZID=UTC:20240524T170000
DTSTAMP:20260425T065113
CREATED:20240513T045332Z
LAST-MODIFIED:20240513T045332Z
UID:11203-1716562800-1716570000@kgkualaselama.nadi.my
SUMMARY:STEM IoT: Thing Translator
DESCRIPTION:
URL:https://kgkualaselama.nadi.my/event/stem-iot-thing-translator/
CATEGORIES:DEFAULT
END:VEVENT
END:VCALENDAR