BEGIN:VCALENDAR
VERSION:2.0
PRODID:-//NADI Kg Kuala Selama - ECPv6.15.13.1//NONSGML v1.0//EN
CALSCALE:GREGORIAN
METHOD:PUBLISH
X-WR-CALNAME:NADI Kg Kuala Selama
X-ORIGINAL-URL:https://kgkualaselama.nadi.my
X-WR-CALDESC:Events for NADI Kg Kuala Selama
REFRESH-INTERVAL;VALUE=DURATION:PT1H
X-Robots-Tag:noindex
X-PUBLISHED-TTL:PT1H
BEGIN:VTIMEZONE
TZID:UTC
BEGIN:STANDARD
TZOFFSETFROM:+0000
TZOFFSETTO:+0000
TZNAME:UTC
DTSTART:20230101T000000
END:STANDARD
END:VTIMEZONE
BEGIN:VEVENT
DTSTART;TZID=UTC:20240507T144500
DTEND;TZID=UTC:20240507T154500
DTSTAMP:20260425T003832
CREATED:20240507T100347Z
LAST-MODIFIED:20240507T100347Z
UID:11191-1715093100-1715096700@kgkualaselama.nadi.my
SUMMARY:Kelas Usahawan Digital GiatMARA Kulim Bandar Baharu Sesi 1/2024 (Jahitan): Basic IT & Emel
DESCRIPTION:
URL:https://kgkualaselama.nadi.my/event/kelas-usahawan-digital-giatmara-kulim-bandar-baharu-sesi-1-2024-jahitan-basic-it-emel/
LOCATION:NADI Kg Sg Batu\, NADI Kg Sg Batu
CATEGORIES:DEFAULT
END:VEVENT
END:VCALENDAR