BEGIN:VCALENDAR
VERSION:2.0
PRODID:-//NADI Kg Kuala Selama - ECPv6.15.13.1//NONSGML v1.0//EN
CALSCALE:GREGORIAN
METHOD:PUBLISH
X-WR-CALNAME:NADI Kg Kuala Selama
X-ORIGINAL-URL:https://kgkualaselama.nadi.my
X-WR-CALDESC:Events for NADI Kg Kuala Selama
REFRESH-INTERVAL;VALUE=DURATION:PT1H
X-Robots-Tag:noindex
X-PUBLISHED-TTL:PT1H
BEGIN:VTIMEZONE
TZID:UTC
BEGIN:STANDARD
TZOFFSETFROM:+0000
TZOFFSETTO:+0000
TZNAME:UTC
DTSTART:20230101T000000
END:STANDARD
END:VTIMEZONE
BEGIN:VEVENT
DTSTART;TZID=UTC:20240506T100000
DTEND;TZID=UTC:20240506T120000
DTSTAMP:20260424T222101
CREATED:20240507T100325Z
LAST-MODIFIED:20240507T100325Z
UID:11190-1714989600-1714996800@kgkualaselama.nadi.my
SUMMARY:e-Learning: Alphabetical Order
DESCRIPTION:
URL:https://kgkualaselama.nadi.my/event/e-learning-alphabetical-order/
LOCATION:NADI Kg Kuala Selama\, NADI Kg Kuala Selama
CATEGORIES:DEFAULT
END:VEVENT
END:VCALENDAR